BEGIN:VCALENDAR
VERSION:2.0
PRODID:-//Adams Lake Indian Band - ECPv6.15.16//NONSGML v1.0//EN
CALSCALE:GREGORIAN
METHOD:PUBLISH
X-ORIGINAL-URL:https://adamslakeband.org
X-WR-CALDESC:Events for Adams Lake Indian Band
REFRESH-INTERVAL;VALUE=DURATION:PT1H
X-Robots-Tag:noindex
X-PUBLISHED-TTL:PT1H
BEGIN:VTIMEZONE
TZID:America/Vancouver
BEGIN:DAYLIGHT
TZOFFSETFROM:-0800
TZOFFSETTO:-0700
TZNAME:PDT
DTSTART:20220313T100000
END:DAYLIGHT
BEGIN:STANDARD
TZOFFSETFROM:-0700
TZOFFSETTO:-0800
TZNAME:PST
DTSTART:20221106T090000
END:STANDARD
BEGIN:DAYLIGHT
TZOFFSETFROM:-0800
TZOFFSETTO:-0700
TZNAME:PDT
DTSTART:20230312T100000
END:DAYLIGHT
BEGIN:STANDARD
TZOFFSETFROM:-0700
TZOFFSETTO:-0800
TZNAME:PST
DTSTART:20231105T090000
END:STANDARD
BEGIN:DAYLIGHT
TZOFFSETFROM:-0800
TZOFFSETTO:-0700
TZNAME:PDT
DTSTART:20240310T100000
END:DAYLIGHT
BEGIN:STANDARD
TZOFFSETFROM:-0700
TZOFFSETTO:-0800
TZNAME:PST
DTSTART:20241103T090000
END:STANDARD
END:VTIMEZONE
BEGIN:VEVENT
DTSTART;VALUE=DATE:20230217
DTEND;VALUE=DATE:20230221
DTSTAMP:20260424T181609
CREATED:20230217T174913Z
LAST-MODIFIED:20230217T174922Z
UID:10003190-1676592000-1676937599@adamslakeband.org
SUMMARY:ALIB Offices Closed Feb 20
DESCRIPTION:All-ALIB Office Family Day.pdf
URL:https://adamslakeband.org/event/alib-offices-closed-feb-20/
END:VEVENT
BEGIN:VEVENT
DTSTART;VALUE=DATE:20230219
DTEND;VALUE=DATE:20230412
DTSTAMP:20260424T181609
CREATED:20230216T173736Z
LAST-MODIFIED:20230411T173259Z
UID:10003186-1676764800-1681257599@adamslakeband.org
SUMMARY:Run-Walk-Wheel Days
DESCRIPTION:RWW times and days 2023.pdf
URL:https://adamslakeband.org/event/run-walk-wheel-days/
END:VEVENT
END:VCALENDAR