BEGIN:VCALENDAR
VERSION:2.0
PRODID:-//Adams Lake Indian Band - ECPv6.15.16//NONSGML v1.0//EN
CALSCALE:GREGORIAN
METHOD:PUBLISH
X-WR-CALNAME:Adams Lake Indian Band
X-ORIGINAL-URL:https://adamslakeband.org
X-WR-CALDESC:Events for Adams Lake Indian Band
REFRESH-INTERVAL;VALUE=DURATION:PT1H
X-Robots-Tag:noindex
X-PUBLISHED-TTL:PT1H
BEGIN:VTIMEZONE
TZID:America/Vancouver
BEGIN:DAYLIGHT
TZOFFSETFROM:-0800
TZOFFSETTO:-0700
TZNAME:PDT
DTSTART:20220313T100000
END:DAYLIGHT
BEGIN:STANDARD
TZOFFSETFROM:-0700
TZOFFSETTO:-0800
TZNAME:PST
DTSTART:20221106T090000
END:STANDARD
BEGIN:DAYLIGHT
TZOFFSETFROM:-0800
TZOFFSETTO:-0700
TZNAME:PDT
DTSTART:20230312T100000
END:DAYLIGHT
BEGIN:STANDARD
TZOFFSETFROM:-0700
TZOFFSETTO:-0800
TZNAME:PST
DTSTART:20231105T090000
END:STANDARD
BEGIN:DAYLIGHT
TZOFFSETFROM:-0800
TZOFFSETTO:-0700
TZNAME:PDT
DTSTART:20240310T100000
END:DAYLIGHT
BEGIN:STANDARD
TZOFFSETFROM:-0700
TZOFFSETTO:-0800
TZNAME:PST
DTSTART:20241103T090000
END:STANDARD
END:VTIMEZONE
BEGIN:VEVENT
DTSTART;VALUE=DATE:20230219
DTEND;VALUE=DATE:20230412
DTSTAMP:20260424T152014
CREATED:20230216T173736Z
LAST-MODIFIED:20230411T173259Z
UID:10003186-1676764800-1681257599@adamslakeband.org
SUMMARY:Run-Walk-Wheel Days
DESCRIPTION:RWW times and days 2023.pdf
URL:https://adamslakeband.org/event/run-walk-wheel-days/
END:VEVENT
BEGIN:VEVENT
DTSTART;VALUE=DATE:20230308
DTEND;VALUE=DATE:20230318
DTSTAMP:20260424T152014
CREATED:20230309T002604Z
LAST-MODIFIED:20230320T170408Z
UID:10003209-1678233600-1679097599@adamslakeband.org
SUMMARY:Expression of Interest Catering Deadline March 17
DESCRIPTION:Expression of Interest Catering deadline March 17 2023 approved.pdf
URL:https://adamslakeband.org/event/expression-of-interest-catering-3/
END:VEVENT
BEGIN:VEVENT
DTSTART;VALUE=DATE:20230309
DTEND;VALUE=DATE:20230320
DTSTAMP:20260424T152014
CREATED:20221115T173104Z
LAST-MODIFIED:20230209T170523Z
UID:10003146-1678320000-1679270399@adamslakeband.org
SUMMARY:NO COST- Secwepemc Dreamcatchers Youth Conference Mar 17-19
DESCRIPTION:NO COST Secwepemc Dream Catchers Youth Conference March 17-19.pdf \n 
URL:https://adamslakeband.org/event/secwepemc-dreamcatchers-youth-conference-mar-17-19-2023-chase-bc/
CATEGORIES:Education
END:VEVENT
BEGIN:VEVENT
DTSTART;VALUE=DATE:20230317
DTEND;VALUE=DATE:20230318
DTSTAMP:20260424T152014
CREATED:20230310T182402Z
LAST-MODIFIED:20230310T182418Z
UID:10003212-1679011200-1679097599@adamslakeband.org
SUMMARY:EOI Cook March 17 Deadline
DESCRIPTION:Express Interest for Cook for Women’s Group Chase Deadline March 17.pdf
URL:https://adamslakeband.org/event/eoi-cook-march-17-deadline/
END:VEVENT
BEGIN:VEVENT
DTSTART;VALUE=DATE:20230317
DTEND;VALUE=DATE:20230318
DTSTAMP:20260424T152014
CREATED:20230310T182800Z
LAST-MODIFIED:20230310T182854Z
UID:10003214-1679011200-1679097599@adamslakeband.org
SUMMARY:EOI Caterer Deadline March 17
DESCRIPTION:Express Interest Caterer Womens Group Swits Deadline March 17.pdf
URL:https://adamslakeband.org/event/eoi-caterer-deadline-march-17/
END:VEVENT
END:VCALENDAR