BEGIN:VCALENDAR
VERSION:2.0
PRODID:-//Adams Lake Indian Band - ECPv6.15.16//NONSGML v1.0//EN
CALSCALE:GREGORIAN
METHOD:PUBLISH
X-WR-CALNAME:Adams Lake Indian Band
X-ORIGINAL-URL:https://adamslakeband.org
X-WR-CALDESC:Events for Adams Lake Indian Band
REFRESH-INTERVAL;VALUE=DURATION:PT1H
X-Robots-Tag:noindex
X-PUBLISHED-TTL:PT1H
BEGIN:VTIMEZONE
TZID:America/Vancouver
BEGIN:DAYLIGHT
TZOFFSETFROM:-0800
TZOFFSETTO:-0700
TZNAME:PDT
DTSTART:20220313T100000
END:DAYLIGHT
BEGIN:STANDARD
TZOFFSETFROM:-0700
TZOFFSETTO:-0800
TZNAME:PST
DTSTART:20221106T090000
END:STANDARD
BEGIN:DAYLIGHT
TZOFFSETFROM:-0800
TZOFFSETTO:-0700
TZNAME:PDT
DTSTART:20230312T100000
END:DAYLIGHT
BEGIN:STANDARD
TZOFFSETFROM:-0700
TZOFFSETTO:-0800
TZNAME:PST
DTSTART:20231105T090000
END:STANDARD
BEGIN:DAYLIGHT
TZOFFSETFROM:-0800
TZOFFSETTO:-0700
TZNAME:PDT
DTSTART:20240310T100000
END:DAYLIGHT
BEGIN:STANDARD
TZOFFSETFROM:-0700
TZOFFSETTO:-0800
TZNAME:PST
DTSTART:20241103T090000
END:STANDARD
END:VTIMEZONE
BEGIN:VEVENT
DTSTART;VALUE=DATE:20230219
DTEND;VALUE=DATE:20230412
DTSTAMP:20260424T164823
CREATED:20230216T173736Z
LAST-MODIFIED:20230411T173259Z
UID:10003186-1676764800-1681257599@adamslakeband.org
SUMMARY:Run-Walk-Wheel Days
DESCRIPTION:RWW times and days 2023.pdf
URL:https://adamslakeband.org/event/run-walk-wheel-days/
END:VEVENT
BEGIN:VEVENT
DTSTART;VALUE=DATE:20230323
DTEND;VALUE=DATE:20230324
DTSTAMP:20260424T164823
CREATED:20230301T200243Z
LAST-MODIFIED:20230322T180743Z
UID:10002747-1679529600-1679615999@adamslakeband.org
SUMMARY:CANCELLED Womens Night Mar Glen Eden
DESCRIPTION:March 23 Glen Earring making .jpg
URL:https://adamslakeband.org/event/womens-night-mar-glen-eden/
CATEGORIES:Sexqeltqin Health & Wellness
END:VEVENT
BEGIN:VEVENT
DTSTART;VALUE=DATE:20230323
DTEND;VALUE=DATE:20230324
DTSTAMP:20260424T164823
CREATED:20230322T170921Z
LAST-MODIFIED:20230328T203856Z
UID:10003219-1679529600-1679615999@adamslakeband.org
SUMMARY:Secwepemctsin Through Songs Mar 23 Chief Atahm School 6pm
DESCRIPTION:CAS Beginning Secwepemc Singing March 23 and 30.pdf
URL:https://adamslakeband.org/event/secwepemctsin-through-songs-mar-23-chief-atahm-school-6pm/
CATEGORIES:Education
END:VEVENT
END:VCALENDAR