BEGIN:VCALENDAR
VERSION:2.0
PRODID:-//Adams Lake Indian Band - ECPv6.15.16//NONSGML v1.0//EN
CALSCALE:GREGORIAN
METHOD:PUBLISH
X-ORIGINAL-URL:https://adamslakeband.org
X-WR-CALDESC:Events for Adams Lake Indian Band
REFRESH-INTERVAL;VALUE=DURATION:PT1H
X-Robots-Tag:noindex
X-PUBLISHED-TTL:PT1H
BEGIN:VTIMEZONE
TZID:America/Vancouver
BEGIN:DAYLIGHT
TZOFFSETFROM:-0800
TZOFFSETTO:-0700
TZNAME:PDT
DTSTART:20210314T100000
END:DAYLIGHT
BEGIN:STANDARD
TZOFFSETFROM:-0700
TZOFFSETTO:-0800
TZNAME:PST
DTSTART:20211107T090000
END:STANDARD
BEGIN:DAYLIGHT
TZOFFSETFROM:-0800
TZOFFSETTO:-0700
TZNAME:PDT
DTSTART:20220313T100000
END:DAYLIGHT
BEGIN:STANDARD
TZOFFSETFROM:-0700
TZOFFSETTO:-0800
TZNAME:PST
DTSTART:20221106T090000
END:STANDARD
BEGIN:DAYLIGHT
TZOFFSETFROM:-0800
TZOFFSETTO:-0700
TZNAME:PDT
DTSTART:20230312T100000
END:DAYLIGHT
BEGIN:STANDARD
TZOFFSETFROM:-0700
TZOFFSETTO:-0800
TZNAME:PST
DTSTART:20231105T090000
END:STANDARD
END:VTIMEZONE
BEGIN:VEVENT
DTSTART;VALUE=DATE:20220307
DTEND;VALUE=DATE:20220308
DTSTAMP:20260424T133858
CREATED:20220217T162054Z
LAST-MODIFIED:20220307T230114Z
UID:10002918-1646611200-1646697599@adamslakeband.org
SUMMARY:Elders Dinner POSTPONED
DESCRIPTION:Elders Dinner March 7 POSTPONED
URL:https://adamslakeband.org/event/elders-lunch/
CATEGORIES:Sexqeltqin Health & Wellness
END:VEVENT
BEGIN:VEVENT
DTSTART;VALUE=DATE:20220307
DTEND;VALUE=DATE:20220308
DTSTAMP:20260424T133858
CREATED:20220228T214500Z
LAST-MODIFIED:20220307T230106Z
UID:10002929-1646611200-1646697599@adamslakeband.org
SUMMARY:CANCELLED Womens Group Chase IR #4
DESCRIPTION:Womens Group Chase IR4 MAR 7 CANCELLED
URL:https://adamslakeband.org/event/womens-group-chase-ir-4/
CATEGORIES:Sexqeltqin Health & Wellness
END:VEVENT
BEGIN:VEVENT
DTSTART;VALUE=DATE:20220309
DTEND;VALUE=DATE:20220310
DTSTAMP:20260424T133858
CREATED:20220228T221903Z
LAST-MODIFIED:20220307T225902Z
UID:10002937-1646784000-1646870399@adamslakeband.org
SUMMARY:CANCELLED Mens Group Swits IR #6
DESCRIPTION:Mens Group POSTER IR 6 MAR APR
URL:https://adamslakeband.org/event/mens-group-swits-ir-6/
CATEGORIES:Sexqeltqin Health & Wellness
END:VEVENT
BEGIN:VEVENT
DTSTART;VALUE=DATE:20220309
DTEND;VALUE=DATE:20220310
DTSTAMP:20260424T133858
CREATED:20220228T222050Z
LAST-MODIFIED:20220307T225856Z
UID:10002941-1646784000-1646870399@adamslakeband.org
SUMMARY:CANCELLED Womens Group Swits IR #6
DESCRIPTION:Womens Group POSTER IR6 MAR APR
URL:https://adamslakeband.org/event/womens-group-swits-ir-6/
CATEGORIES:Sexqeltqin Health & Wellness
END:VEVENT
BEGIN:VEVENT
DTSTART;VALUE=DATE:20220309
DTEND;VALUE=DATE:20220310
DTSTAMP:20260424T133858
CREATED:20220228T222243Z
LAST-MODIFIED:20220307T225850Z
UID:10002943-1646784000-1646870399@adamslakeband.org
SUMMARY:CANCELLED Mens Group Chase IR #4
DESCRIPTION:Mens Group POSTER IR 4 MAR APR
URL:https://adamslakeband.org/event/mens-group-chase-ir-4/
CATEGORIES:Sexqeltqin Health & Wellness
END:VEVENT
BEGIN:VEVENT
DTSTART;VALUE=DATE:20220314
DTEND;VALUE=DATE:20220315
DTSTAMP:20260424T133858
CREATED:20220218T235413Z
LAST-MODIFIED:20220307T225842Z
UID:10002919-1647216000-1647302399@adamslakeband.org
SUMMARY:Community Kitchen March 14 Chase
DESCRIPTION:Community Kitchen March 14\, Chase\, Deadline Register_ March 10
URL:https://adamslakeband.org/event/community-kitchen-march-14-chase-deadline-register_-march-10/
CATEGORIES:Sexqeltqin Health & Wellness
END:VEVENT
BEGIN:VEVENT
DTSTART;VALUE=DATE:20220316
DTEND;VALUE=DATE:20220317
DTSTAMP:20260424T133858
CREATED:20220215T174643Z
LAST-MODIFIED:20220307T225829Z
UID:10002536-1647388800-1647475199@adamslakeband.org
SUMMARY:Learn to Quilt
DESCRIPTION:Quilting Poster March 16
URL:https://adamslakeband.org/event/learn-to-quilt/
CATEGORIES:Sexqeltqin Health & Wellness
END:VEVENT
BEGIN:VEVENT
DTSTART;VALUE=DATE:20220316
DTEND;VALUE=DATE:20220317
DTSTAMP:20260424T133858
CREATED:20220218T235545Z
LAST-MODIFIED:20220307T225821Z
UID:10002920-1647388800-1647475199@adamslakeband.org
SUMMARY:Community Kitchen March 16\, Salmon Arm
DESCRIPTION:Community Kitchen March 16\, Salmon Arm\, Deadline Register_ March 14
URL:https://adamslakeband.org/event/community-kitchen-march-16-salmon-arm/
CATEGORIES:Sexqeltqin Health & Wellness
END:VEVENT
BEGIN:VEVENT
DTSTART;VALUE=DATE:20220318
DTEND;VALUE=DATE:20220319
DTSTAMP:20260424T133859
CREATED:20220308T000343Z
LAST-MODIFIED:20220308T001328Z
UID:10002950-1647561600-1647647999@adamslakeband.org
SUMMARY:First Aid Course Reg Mar 18
DESCRIPTION:
URL:https://adamslakeband.org/event/first-aid-course-reg-mar-18/
CATEGORIES:Sexqeltqin Health & Wellness
END:VEVENT
BEGIN:VEVENT
DTSTART;VALUE=DATE:20220328
DTEND;VALUE=DATE:20220329
DTSTAMP:20260424T133859
CREATED:20220228T215325Z
LAST-MODIFIED:20220307T225813Z
UID:10002931-1648425600-1648511999@adamslakeband.org
SUMMARY:Womens Group Chase IR #4
DESCRIPTION:Womens Group Chase IR4 MAR 28
URL:https://adamslakeband.org/event/womens-group-chase-ir/
CATEGORIES:Sexqeltqin Health & Wellness
END:VEVENT
END:VCALENDAR