BEGIN:VCALENDAR
VERSION:2.0
PRODID:-//Adams Lake Indian Band - ECPv6.15.16//NONSGML v1.0//EN
CALSCALE:GREGORIAN
METHOD:PUBLISH
X-ORIGINAL-URL:https://adamslakeband.org
X-WR-CALDESC:Events for Adams Lake Indian Band
REFRESH-INTERVAL;VALUE=DURATION:PT1H
X-Robots-Tag:noindex
X-PUBLISHED-TTL:PT1H
BEGIN:VTIMEZONE
TZID:America/Vancouver
BEGIN:DAYLIGHT
TZOFFSETFROM:-0800
TZOFFSETTO:-0700
TZNAME:PDT
DTSTART:20220313T100000
END:DAYLIGHT
BEGIN:STANDARD
TZOFFSETFROM:-0700
TZOFFSETTO:-0800
TZNAME:PST
DTSTART:20221106T090000
END:STANDARD
BEGIN:DAYLIGHT
TZOFFSETFROM:-0800
TZOFFSETTO:-0700
TZNAME:PDT
DTSTART:20230312T100000
END:DAYLIGHT
BEGIN:STANDARD
TZOFFSETFROM:-0700
TZOFFSETTO:-0800
TZNAME:PST
DTSTART:20231105T090000
END:STANDARD
BEGIN:DAYLIGHT
TZOFFSETFROM:-0800
TZOFFSETTO:-0700
TZNAME:PDT
DTSTART:20240310T100000
END:DAYLIGHT
BEGIN:STANDARD
TZOFFSETFROM:-0700
TZOFFSETTO:-0800
TZNAME:PST
DTSTART:20241103T090000
END:STANDARD
END:VTIMEZONE
BEGIN:VEVENT
DTSTART;VALUE=DATE:20230402
DTEND;VALUE=DATE:20230403
DTSTAMP:20260419T095133
CREATED:20221202T163908Z
LAST-MODIFIED:20230308T222052Z
UID:10003160-1680393600-1680479999@adamslakeband.org
SUMMARY:ALIB Elders Fundraising BINGO
DESCRIPTION:ALIB Elders Fundraising BINGO.pdf
URL:https://adamslakeband.org/event/alib-elders-fundraising-bingo-5/
CATEGORIES:Sexqeltqin Health & Wellness
END:VEVENT
BEGIN:VEVENT
DTSTART;VALUE=DATE:20230404
DTEND;VALUE=DATE:20230405
DTSTAMP:20260419T095133
CREATED:20230227T234734Z
LAST-MODIFIED:20230323T232317Z
UID:10003204-1680566400-1680652799@adamslakeband.org
SUMMARY:Wellbriety
DESCRIPTION:  \nWellbriety Mar 22.png
URL:https://adamslakeband.org/event/wellbriety-6/
CATEGORIES:Sexqeltqin Health & Wellness
END:VEVENT
BEGIN:VEVENT
DTSTART;VALUE=DATE:20230410
DTEND;VALUE=DATE:20230411
DTSTAMP:20260419T095133
CREATED:20230310T182256Z
LAST-MODIFIED:20230328T203717Z
UID:10003211-1681084800-1681171199@adamslakeband.org
SUMMARY:BINGO April 10 ALRCC Chase
DESCRIPTION:Bingo April 10 ALRCC\, Chase\, BC.pdf
URL:https://adamslakeband.org/event/bingo-april-10-alrcc-chase/
CATEGORIES:Sexqeltqin Health & Wellness
END:VEVENT
BEGIN:VEVENT
DTSTART;VALUE=DATE:20230411
DTEND;VALUE=DATE:20230412
DTSTAMP:20260419T095133
CREATED:20230227T234754Z
LAST-MODIFIED:20230308T222838Z
UID:10003205-1681171200-1681257599@adamslakeband.org
SUMMARY:Wellbriety
DESCRIPTION:  \nUpdated Wellbriety Mar23 location change.png
URL:https://adamslakeband.org/event/wellbriety-7/
CATEGORIES:Sexqeltqin Health & Wellness
END:VEVENT
BEGIN:VEVENT
DTSTART;VALUE=DATE:20230418
DTEND;VALUE=DATE:20230419
DTSTAMP:20260419T095133
CREATED:20230227T234818Z
LAST-MODIFIED:20230323T232234Z
UID:10003206-1681776000-1681862399@adamslakeband.org
SUMMARY:Wellbriety
DESCRIPTION:  \nWellbriety Mar 22.png \n 
URL:https://adamslakeband.org/event/wellbriety-8/
CATEGORIES:Sexqeltqin Health & Wellness
END:VEVENT
BEGIN:VEVENT
DTSTART;VALUE=DATE:20230425
DTEND;VALUE=DATE:20230426
DTSTAMP:20260419T095133
CREATED:20230227T234845Z
LAST-MODIFIED:20230424T173339Z
UID:10002738-1682380800-1682467199@adamslakeband.org
SUMMARY:Wellbriety Final Mtg
DESCRIPTION:  \nWellbriety Final.png
URL:https://adamslakeband.org/event/wellbriety-9/
CATEGORIES:Sexqeltqin Health & Wellness
END:VEVENT
END:VCALENDAR