BEGIN:VCALENDAR
VERSION:2.0
PRODID:-//Adams Lake Indian Band - ECPv6.15.16//NONSGML v1.0//EN
CALSCALE:GREGORIAN
METHOD:PUBLISH
X-ORIGINAL-URL:https://adamslakeband.org
X-WR-CALDESC:Events for Adams Lake Indian Band
REFRESH-INTERVAL;VALUE=DURATION:PT1H
X-Robots-Tag:noindex
X-PUBLISHED-TTL:PT1H
BEGIN:VTIMEZONE
TZID:America/Vancouver
BEGIN:DAYLIGHT
TZOFFSETFROM:-0800
TZOFFSETTO:-0700
TZNAME:PDT
DTSTART:20210314T100000
END:DAYLIGHT
BEGIN:STANDARD
TZOFFSETFROM:-0700
TZOFFSETTO:-0800
TZNAME:PST
DTSTART:20211107T090000
END:STANDARD
BEGIN:DAYLIGHT
TZOFFSETFROM:-0800
TZOFFSETTO:-0700
TZNAME:PDT
DTSTART:20220313T100000
END:DAYLIGHT
BEGIN:STANDARD
TZOFFSETFROM:-0700
TZOFFSETTO:-0800
TZNAME:PST
DTSTART:20221106T090000
END:STANDARD
BEGIN:DAYLIGHT
TZOFFSETFROM:-0800
TZOFFSETTO:-0700
TZNAME:PDT
DTSTART:20230312T100000
END:DAYLIGHT
BEGIN:STANDARD
TZOFFSETFROM:-0700
TZOFFSETTO:-0800
TZNAME:PST
DTSTART:20231105T090000
END:STANDARD
END:VTIMEZONE
BEGIN:VEVENT
DTSTART;VALUE=DATE:20220307
DTEND;VALUE=DATE:20220308
DTSTAMP:20260424T150107
CREATED:20220217T162054Z
LAST-MODIFIED:20220307T230114Z
UID:10002918-1646611200-1646697599@adamslakeband.org
SUMMARY:Elders Dinner POSTPONED
DESCRIPTION:Elders Dinner March 7 POSTPONED
URL:https://adamslakeband.org/event/elders-lunch/
CATEGORIES:Sexqeltqin Health & Wellness
END:VEVENT
BEGIN:VEVENT
DTSTART;VALUE=DATE:20220307
DTEND;VALUE=DATE:20220308
DTSTAMP:20260424T150107
CREATED:20220228T214500Z
LAST-MODIFIED:20220307T230106Z
UID:10002929-1646611200-1646697599@adamslakeband.org
SUMMARY:CANCELLED Womens Group Chase IR #4
DESCRIPTION:Womens Group Chase IR4 MAR 7 CANCELLED
URL:https://adamslakeband.org/event/womens-group-chase-ir-4/
CATEGORIES:Sexqeltqin Health & Wellness
END:VEVENT
END:VCALENDAR