BEGIN:VCALENDAR
VERSION:2.0
PRODID:-//Adams Lake Indian Band - ECPv6.15.16//NONSGML v1.0//EN
CALSCALE:GREGORIAN
METHOD:PUBLISH
X-ORIGINAL-URL:https://adamslakeband.org
X-WR-CALDESC:Events for Adams Lake Indian Band
REFRESH-INTERVAL;VALUE=DURATION:PT1H
X-Robots-Tag:noindex
X-PUBLISHED-TTL:PT1H
BEGIN:VTIMEZONE
TZID:America/Vancouver
BEGIN:DAYLIGHT
TZOFFSETFROM:-0800
TZOFFSETTO:-0700
TZNAME:PDT
DTSTART:20210314T100000
END:DAYLIGHT
BEGIN:STANDARD
TZOFFSETFROM:-0700
TZOFFSETTO:-0800
TZNAME:PST
DTSTART:20211107T090000
END:STANDARD
BEGIN:DAYLIGHT
TZOFFSETFROM:-0800
TZOFFSETTO:-0700
TZNAME:PDT
DTSTART:20220313T100000
END:DAYLIGHT
BEGIN:STANDARD
TZOFFSETFROM:-0700
TZOFFSETTO:-0800
TZNAME:PST
DTSTART:20221106T090000
END:STANDARD
BEGIN:DAYLIGHT
TZOFFSETFROM:-0800
TZOFFSETTO:-0700
TZNAME:PDT
DTSTART:20230312T100000
END:DAYLIGHT
BEGIN:STANDARD
TZOFFSETFROM:-0700
TZOFFSETTO:-0800
TZNAME:PST
DTSTART:20231105T090000
END:STANDARD
END:VTIMEZONE
BEGIN:VEVENT
DTSTART;VALUE=DATE:20220412
DTEND;VALUE=DATE:20220413
DTSTAMP:20260424T133853
CREATED:20220228T221940Z
LAST-MODIFIED:20220407T155747Z
UID:10002940-1649721600-1649807999@adamslakeband.org
SUMMARY:Mens Group Swits IR #6 APRIL 12
DESCRIPTION:Mens Group POSTER IR 6 MAR APR (002)
URL:https://adamslakeband.org/event/mens-group-swits-ir-6-2/
CATEGORIES:Sexqeltqin Health & Wellness
END:VEVENT
BEGIN:VEVENT
DTSTART;VALUE=DATE:20220412
DTEND;VALUE=DATE:20220413
DTSTAMP:20260424T133853
CREATED:20220325T225407Z
LAST-MODIFIED:20220407T155920Z
UID:10002551-1649721600-1649807999@adamslakeband.org
SUMMARY:Community Kitchen April 12
DESCRIPTION:Community Kitchen April 11 postponed to April 12 \n 
URL:https://adamslakeband.org/event/community-kitchen-april-12/
CATEGORIES:Sexqeltqin Health & Wellness
END:VEVENT
END:VCALENDAR