BEGIN:VCALENDAR
VERSION:2.0
PRODID:-//Adams Lake Indian Band - ECPv6.15.16//NONSGML v1.0//EN
CALSCALE:GREGORIAN
METHOD:PUBLISH
X-ORIGINAL-URL:https://adamslakeband.org
X-WR-CALDESC:Events for Adams Lake Indian Band
REFRESH-INTERVAL;VALUE=DURATION:PT1H
X-Robots-Tag:noindex
X-PUBLISHED-TTL:PT1H
BEGIN:VTIMEZONE
TZID:America/Vancouver
BEGIN:DAYLIGHT
TZOFFSETFROM:-0800
TZOFFSETTO:-0700
TZNAME:PDT
DTSTART:20210314T100000
END:DAYLIGHT
BEGIN:STANDARD
TZOFFSETFROM:-0700
TZOFFSETTO:-0800
TZNAME:PST
DTSTART:20211107T090000
END:STANDARD
BEGIN:DAYLIGHT
TZOFFSETFROM:-0800
TZOFFSETTO:-0700
TZNAME:PDT
DTSTART:20220313T100000
END:DAYLIGHT
BEGIN:STANDARD
TZOFFSETFROM:-0700
TZOFFSETTO:-0800
TZNAME:PST
DTSTART:20221106T090000
END:STANDARD
BEGIN:DAYLIGHT
TZOFFSETFROM:-0800
TZOFFSETTO:-0700
TZNAME:PDT
DTSTART:20230312T100000
END:DAYLIGHT
BEGIN:STANDARD
TZOFFSETFROM:-0700
TZOFFSETTO:-0800
TZNAME:PST
DTSTART:20231105T090000
END:STANDARD
END:VTIMEZONE
BEGIN:VEVENT
DTSTART;VALUE=DATE:20220510
DTEND;VALUE=DATE:20220513
DTSTAMP:20260424T120941
CREATED:20220505T205200Z
LAST-MODIFIED:20220505T205658Z
UID:10002998-1652140800-1652399999@adamslakeband.org
SUMMARY:Seabird Mobile Diabetes Clinic May 10\,11\,12.
DESCRIPTION:Seabird Mobile Diabetes Team Clinic Notice May 10 11 12.pdf
URL:https://adamslakeband.org/event/seabird-mobile-diabetes-clinic-may-101112/
CATEGORIES:Sexqeltqin Health & Wellness
END:VEVENT
BEGIN:VEVENT
DTSTART;VALUE=DATE:20220512
DTEND;VALUE=DATE:20220513
DTSTAMP:20260424T120941
CREATED:20220504T222300Z
LAST-MODIFIED:20220505T165850Z
UID:10002580-1652313600-1652399999@adamslakeband.org
SUMMARY:Men's Group May 12\, Salmon Arm
DESCRIPTION:Mens Group May 12\, Salmon Arm.pdf
URL:https://adamslakeband.org/event/mens-group-may-12-salmon-arm/
CATEGORIES:Sexqeltqin Health & Wellness
END:VEVENT
BEGIN:VEVENT
DTSTART;VALUE=DATE:20220512
DTEND;VALUE=DATE:20220513
DTSTAMP:20260424T120941
CREATED:20220504T222405Z
LAST-MODIFIED:20220505T165903Z
UID:10002582-1652313600-1652399999@adamslakeband.org
SUMMARY:Woman's Group May 12\, Chase
DESCRIPTION:Womens Group May 12\, Chase.pdf
URL:https://adamslakeband.org/event/womans-group-may-12-chase/
CATEGORIES:Sexqeltqin Health & Wellness
END:VEVENT
BEGIN:VEVENT
DTSTART;VALUE=DATE:20220512
DTEND;VALUE=DATE:20220514
DTSTAMP:20260424T120941
CREATED:20220506T224948Z
LAST-MODIFIED:20220506T225008Z
UID:10002999-1652313600-1652486399@adamslakeband.org
SUMMARY:Acupuncture ALIB Spiritual Centre
DESCRIPTION:Acupuncture ALIB Spiritual Centre May 12 & 13.pdf \n 
URL:https://adamslakeband.org/event/acupuncture-alib-spiritual-centre/
CATEGORIES:Sexqeltqin Health & Wellness
END:VEVENT
END:VCALENDAR