BEGIN:VCALENDAR
VERSION:2.0
PRODID:-//Adams Lake Indian Band - ECPv6.15.16//NONSGML v1.0//EN
CALSCALE:GREGORIAN
METHOD:PUBLISH
X-ORIGINAL-URL:https://adamslakeband.org
X-WR-CALDESC:Events for Adams Lake Indian Band
REFRESH-INTERVAL;VALUE=DURATION:PT1H
X-Robots-Tag:noindex
X-PUBLISHED-TTL:PT1H
BEGIN:VTIMEZONE
TZID:America/Vancouver
BEGIN:DAYLIGHT
TZOFFSETFROM:-0800
TZOFFSETTO:-0700
TZNAME:PDT
DTSTART:20210314T100000
END:DAYLIGHT
BEGIN:STANDARD
TZOFFSETFROM:-0700
TZOFFSETTO:-0800
TZNAME:PST
DTSTART:20211107T090000
END:STANDARD
BEGIN:DAYLIGHT
TZOFFSETFROM:-0800
TZOFFSETTO:-0700
TZNAME:PDT
DTSTART:20220313T100000
END:DAYLIGHT
BEGIN:STANDARD
TZOFFSETFROM:-0700
TZOFFSETTO:-0800
TZNAME:PST
DTSTART:20221106T090000
END:STANDARD
BEGIN:DAYLIGHT
TZOFFSETFROM:-0800
TZOFFSETTO:-0700
TZNAME:PDT
DTSTART:20230312T100000
END:DAYLIGHT
BEGIN:STANDARD
TZOFFSETFROM:-0700
TZOFFSETTO:-0800
TZNAME:PST
DTSTART:20231105T090000
END:STANDARD
BEGIN:DAYLIGHT
TZOFFSETFROM:-0800
TZOFFSETTO:-0700
TZNAME:PDT
DTSTART:20240310T100000
END:DAYLIGHT
BEGIN:STANDARD
TZOFFSETFROM:-0700
TZOFFSETTO:-0800
TZNAME:PST
DTSTART:20241103T090000
END:STANDARD
END:VTIMEZONE
BEGIN:VEVENT
DTSTART;VALUE=DATE:20220722
DTEND;VALUE=DATE:20220723
DTSTAMP:20260425T082715
CREATED:20220713T232825Z
LAST-MODIFIED:20220722T231413Z
UID:10003090-1658448000-1658534399@adamslakeband.org
SUMMARY:Community Kitchen July 22 ALRCC\, Chase
DESCRIPTION:Community Kitchen July 22 ALRCC\, Chase.pdf
URL:https://adamslakeband.org/event/community-kitchen-july-22-alrcc-chase/
CATEGORIES:Sexqeltqin Health & Wellness
END:VEVENT
BEGIN:VEVENT
DTSTART;VALUE=DATE:20220725
DTEND;VALUE=DATE:20220726
DTSTAMP:20260425T082715
CREATED:20220624T232354Z
LAST-MODIFIED:20220722T231350Z
UID:10003085-1658707200-1658793599@adamslakeband.org
SUMMARY:Summer BBQ July 25\, Chase
DESCRIPTION:Summer BBQ July 25\, Chase.pdf
URL:https://adamslakeband.org/event/summer-bbq-july-25-chase/
CATEGORIES:Sexqeltqin Health & Wellness
END:VEVENT
BEGIN:VEVENT
DTSTART;VALUE=DATE:20220726
DTEND;VALUE=DATE:20220727
DTSTAMP:20260425T082715
CREATED:20220624T232439Z
LAST-MODIFIED:20220722T231302Z
UID:10003086-1658793600-1658879999@adamslakeband.org
SUMMARY:Summer BBQ July 26\, Salmon Arm
DESCRIPTION:Summer BBQ July 26\, Salmon Arm.pdf
URL:https://adamslakeband.org/event/summer-bbq-july-26-salmon-arm/
CATEGORIES:Sexqeltqin Health & Wellness
END:VEVENT
BEGIN:VEVENT
DTSTART;TZID=America/Vancouver:20220726T080000
DTEND;TZID=America/Vancouver:20220726T170000
DTSTAMP:20260425T082715
CREATED:20220610T174346Z
LAST-MODIFIED:20220616T222034Z
UID:10003054-1658822400-1658854800@adamslakeband.org
SUMMARY:Mens Group Flint Knapping Chase
DESCRIPTION:Mens Group_ Flint Knapping July 26\, Chase.pdf
URL:https://adamslakeband.org/event/mens-group-flint-knapping-chase/
CATEGORIES:Sexqeltqin Health & Wellness
END:VEVENT
BEGIN:VEVENT
DTSTART;VALUE=DATE:20220727
DTEND;VALUE=DATE:20220729
DTSTAMP:20260425T082715
CREATED:20220614T220244Z
LAST-MODIFIED:20220722T231256Z
UID:10003062-1658880000-1659052799@adamslakeband.org
SUMMARY:Cultural Day Camp
DESCRIPTION:Cultural Day camp – July 27th- 28th.pdf
URL:https://adamslakeband.org/event/cultural-day-camp/
CATEGORIES:Sexqeltqin Health & Wellness
END:VEVENT
BEGIN:VEVENT
DTSTART;VALUE=DATE:20220803
DTEND;VALUE=DATE:20220804
DTSTAMP:20260425T082715
CREATED:20220722T230555Z
LAST-MODIFIED:20220722T231246Z
UID:10003098-1659484800-1659571199@adamslakeband.org
SUMMARY:Medicine Pouch Making Aug 3\, Chase
DESCRIPTION:Medicine Pouch Making Aug 3\, Chase.pdf
URL:https://adamslakeband.org/event/medicine-pouch-making-aug-3-chase/
CATEGORIES:Sexqeltqin Health & Wellness
END:VEVENT
BEGIN:VEVENT
DTSTART;VALUE=DATE:20220804
DTEND;VALUE=DATE:20220805
DTSTAMP:20260425T082716
CREATED:20220722T230658Z
LAST-MODIFIED:20220722T231239Z
UID:10003099-1659571200-1659657599@adamslakeband.org
SUMMARY:Medicine Pouch Making Aug 4\, Salmon Arm
DESCRIPTION:Medicine Pouch Making Aug 4\, Salmon Arm.pdf
URL:https://adamslakeband.org/event/medicine-pouch-making-aug-4-salmon-arm/
CATEGORIES:Sexqeltqin Health & Wellness
END:VEVENT
BEGIN:VEVENT
DTSTART;VALUE=DATE:20220805
DTEND;VALUE=DATE:20220806
DTSTAMP:20260425T082716
CREATED:20220816T214405Z
LAST-MODIFIED:20220805T221146Z
UID:10002629-1659657600-1659743999@adamslakeband.org
SUMMARY:Eye Exams & Form Aug 16 – 17\, Chase DEADLINE Aug 5
DESCRIPTION:Eye Examinations & Form Aug 16 – 17\, Chase_ Deadline Form & appts Aug 5.pdf
URL:https://adamslakeband.org/event/eye-exams-form-aug-16-17-chase-deadline-aug-5/
CATEGORIES:Sexqeltqin Health & Wellness
END:VEVENT
BEGIN:VEVENT
DTSTART;VALUE=DATE:20220805
DTEND;VALUE=DATE:20220806
DTSTAMP:20260425T082716
CREATED:20220818T214506Z
LAST-MODIFIED:20220805T221121Z
UID:10002631-1659657600-1659743999@adamslakeband.org
SUMMARY:Eye Exams & Form Aug 18\, Salmon Arm DEADLINE Aug 5
DESCRIPTION:Eye Examinations & Form Aug 18\, Salmon Arm _ Deadline for form & appts Aug 5.pdf
URL:https://adamslakeband.org/event/eye-exams-form-aug-18-salmon-arm-deadline-aug-5/
CATEGORIES:Sexqeltqin Health & Wellness
END:VEVENT
BEGIN:VEVENT
DTSTART;VALUE=DATE:20220810
DTEND;VALUE=DATE:20220811
DTSTAMP:20260425T082716
CREATED:20220722T230748Z
LAST-MODIFIED:20220722T231219Z
UID:10003100-1660089600-1660175999@adamslakeband.org
SUMMARY:Huichol Beadworking Aug 10\, Chase
DESCRIPTION:Huichol Beadworking Aug 10\, Chase.pdf
URL:https://adamslakeband.org/event/huichol-beadworking-aug-10-chase/
CATEGORIES:Sexqeltqin Health & Wellness
END:VEVENT
BEGIN:VEVENT
DTSTART;VALUE=DATE:20220811
DTEND;VALUE=DATE:20220812
DTSTAMP:20260425T082716
CREATED:20220722T230930Z
LAST-MODIFIED:20220722T231212Z
UID:10003101-1660176000-1660262399@adamslakeband.org
SUMMARY:Huichol Beadworking Aug 11\, Salmon Arm
DESCRIPTION:Huichol Beadworking Aug 11\, Salmon Arm.pdf
URL:https://adamslakeband.org/event/huichol-beadworking-aug-11-salmon-arm/
CATEGORIES:Sexqeltqin Health & Wellness
END:VEVENT
BEGIN:VEVENT
DTSTART;VALUE=DATE:20220817
DTEND;VALUE=DATE:20220818
DTSTAMP:20260425T082716
CREATED:20220722T230301Z
LAST-MODIFIED:20220722T231206Z
UID:10003096-1660694400-1660780799@adamslakeband.org
SUMMARY:Arrow Making Workshop Aug 17\, Chase
DESCRIPTION:Arrow Making Workshop Aug 17\, Chase.pdf
URL:https://adamslakeband.org/event/arrow-making-workshop-aug-17-chase/
CATEGORIES:Sexqeltqin Health & Wellness
END:VEVENT
BEGIN:VEVENT
DTSTART;VALUE=DATE:20220818
DTEND;VALUE=DATE:20220819
DTSTAMP:20260425T082716
CREATED:20220722T230504Z
LAST-MODIFIED:20220808T161751Z
UID:10003097-1660780800-1660867199@adamslakeband.org
SUMMARY:Arrow Making Workshop Aug 18\, Salmon Arm
DESCRIPTION:Arrow Making Workshop Aug 18\, Salmon Arm.pdf
URL:https://adamslakeband.org/event/arrow-making-workshop-aug-18-salmon-arm/
CATEGORIES:Sexqeltqin Health & Wellness
END:VEVENT
BEGIN:VEVENT
DTSTART;VALUE=DATE:20220825
DTEND;VALUE=DATE:20220826
DTSTAMP:20260425T082716
CREATED:20220722T231047Z
LAST-MODIFIED:20220722T231146Z
UID:10003102-1661385600-1661471999@adamslakeband.org
SUMMARY:Women’s Group Aug 25\, Salmon Arm bowling
DESCRIPTION:Women’s Group August 25\, Salmon Arm Bowling.pdf
URL:https://adamslakeband.org/event/womens-group-aug-25-salmon-arm-bowling/
CATEGORIES:Sexqeltqin Health & Wellness
END:VEVENT
BEGIN:VEVENT
DTSTART;VALUE=DATE:20230203
DTEND;VALUE=DATE:20230204
DTSTAMP:20260425T082716
CREATED:20230117T173326Z
LAST-MODIFIED:20230130T185920Z
UID:10003171-1675382400-1675468799@adamslakeband.org
SUMMARY:Family Day Feb 3
DESCRIPTION:Family Day 2023.jpg
URL:https://adamslakeband.org/event/family-day-feb-3/
CATEGORIES:Sexqeltqin Health & Wellness
END:VEVENT
BEGIN:VEVENT
DTSTART;VALUE=DATE:20230215
DTEND;VALUE=DATE:20230216
DTSTAMP:20260425T082716
CREATED:20230207T184731Z
LAST-MODIFIED:20230216T165328Z
UID:10002714-1676419200-1676505599@adamslakeband.org
SUMMARY:Postponed-ALIB Womens Group Feb 15 ALRCC 5pm
DESCRIPTION:Womens night feb 15 postponed earrings.jpg \n 
URL:https://adamslakeband.org/event/alib-womens-group-feb-15-alrcc-5pm/
CATEGORIES:Sexqeltqin Health & Wellness
END:VEVENT
BEGIN:VEVENT
DTSTART;VALUE=DATE:20230222
DTEND;VALUE=DATE:20230223
DTSTAMP:20260425T082716
CREATED:20230207T185036Z
LAST-MODIFIED:20230216T165154Z
UID:10002716-1677024000-1677110399@adamslakeband.org
SUMMARY:ALIB Womens Group Feb 22 ALRCC 5pm
DESCRIPTION:Flower Arrangement feb 22 alib womens group.pdf
URL:https://adamslakeband.org/event/alib-womens-group-feb-22-alrcc-5pm/
CATEGORIES:Sexqeltqin Health & Wellness
END:VEVENT
BEGIN:VEVENT
DTSTART;VALUE=DATE:20230223
DTEND;VALUE=DATE:20230224
DTSTAMP:20260425T082716
CREATED:20230207T185258Z
LAST-MODIFIED:20230216T165146Z
UID:10002718-1677110400-1677196799@adamslakeband.org
SUMMARY:ALIB Womens Group Salmon Arm Feb 23 5pm
DESCRIPTION:Gypsy Creation Thur 23\, 2023 womens group.pdf
URL:https://adamslakeband.org/event/alib-womens-group-salmon-arm-feb-23-5pm/
CATEGORIES:Sexqeltqin Health & Wellness
END:VEVENT
BEGIN:VEVENT
DTSTART;VALUE=DATE:20230228
DTEND;VALUE=DATE:20230301
DTSTAMP:20260425T082716
CREATED:20230227T234443Z
LAST-MODIFIED:20230227T235413Z
UID:10003199-1677542400-1677628799@adamslakeband.org
SUMMARY:Wellbriety ALIB NIB LSLIB
DESCRIPTION:Wellbriety Poster Updated dates 2.10.png
URL:https://adamslakeband.org/event/wellbriety-alib-nib-lslib/
CATEGORIES:Sexqeltqin Health & Wellness
END:VEVENT
BEGIN:VEVENT
DTSTART;VALUE=DATE:20230302
DTEND;VALUE=DATE:20230303
DTSTAMP:20260425T082716
CREATED:20230216T164312Z
LAST-MODIFIED:20230216T165133Z
UID:10003182-1677715200-1677801599@adamslakeband.org
SUMMARY:Family Health Walk
DESCRIPTION:Family Health Walk 2023.jpg
URL:https://adamslakeband.org/event/family-health-walk/
CATEGORIES:Sexqeltqin Health & Wellness
END:VEVENT
BEGIN:VEVENT
DTSTART;VALUE=DATE:20230307
DTEND;VALUE=DATE:20230308
DTSTAMP:20260425T082716
CREATED:20230130T185326Z
LAST-MODIFIED:20230216T165118Z
UID:10003177-1678147200-1678233599@adamslakeband.org
SUMMARY:Learn about Jordan's Principle
DESCRIPTION:You are invited to learn about Jordan’s Principle 030723.png
URL:https://adamslakeband.org/event/learn-about-jordans-principle/
CATEGORIES:Sexqeltqin Health & Wellness
END:VEVENT
BEGIN:VEVENT
DTSTART;VALUE=DATE:20230307
DTEND;VALUE=DATE:20230308
DTSTAMP:20260425T082716
CREATED:20230227T234511Z
LAST-MODIFIED:20230227T235402Z
UID:10003200-1678147200-1678233599@adamslakeband.org
SUMMARY:Wellbriety
DESCRIPTION:Wellbriety Poster Updated dates 2.10.png
URL:https://adamslakeband.org/event/wellbriety-2/
CATEGORIES:Sexqeltqin Health & Wellness
END:VEVENT
BEGIN:VEVENT
DTSTART;VALUE=DATE:20230308
DTEND;VALUE=DATE:20230309
DTSTAMP:20260425T082716
CREATED:20230216T164341Z
LAST-MODIFIED:20230216T165111Z
UID:10003183-1678233600-1678319999@adamslakeband.org
SUMMARY:Family Health Walk
DESCRIPTION:Family Health Walk 2023.jpg
URL:https://adamslakeband.org/event/family-health-walk-2/
CATEGORIES:Sexqeltqin Health & Wellness
END:VEVENT
BEGIN:VEVENT
DTSTART;VALUE=DATE:20230309
DTEND;VALUE=DATE:20230310
DTSTAMP:20260425T082716
CREATED:20230301T200320Z
LAST-MODIFIED:20230308T222212Z
UID:10002749-1678320000-1678406399@adamslakeband.org
SUMMARY:Mens Night New Date Mar 16
DESCRIPTION:  \nMen’s group ALIB new date.jpg
URL:https://adamslakeband.org/event/mens-night/
CATEGORIES:Sexqeltqin Health & Wellness
END:VEVENT
BEGIN:VEVENT
DTSTART;VALUE=DATE:20230314
DTEND;VALUE=DATE:20230315
DTSTAMP:20260425T082716
CREATED:20230227T234549Z
LAST-MODIFIED:20230308T223041Z
UID:10003201-1678752000-1678838399@adamslakeband.org
SUMMARY:Wellbriety
DESCRIPTION:  \nUpdated Wellbriety Mar23 location change.png
URL:https://adamslakeband.org/event/wellbriety-3/
CATEGORIES:Sexqeltqin Health & Wellness
END:VEVENT
BEGIN:VEVENT
DTSTART;VALUE=DATE:20230315
DTEND;VALUE=DATE:20230316
DTSTAMP:20260425T082716
CREATED:20230301T195856Z
LAST-MODIFIED:20230308T222203Z
UID:10002743-1678838400-1678924799@adamslakeband.org
SUMMARY:Womens Paint Night
DESCRIPTION:March 15 ALIB Womens Paint night – chase.jpg
URL:https://adamslakeband.org/event/womens-paint-night/
CATEGORIES:Sexqeltqin Health & Wellness
END:VEVENT
BEGIN:VEVENT
DTSTART;VALUE=DATE:20230315
DTEND;VALUE=DATE:20230316
DTSTAMP:20260425T082716
CREATED:20230303T233238Z
LAST-MODIFIED:20230308T222155Z
UID:10002751-1678838400-1678924799@adamslakeband.org
SUMMARY:Head Start Yoga Mondays Register by March 15
DESCRIPTION:Heald Start Yoga Mondays Register by March 15.pdf
URL:https://adamslakeband.org/event/head-start-yoga-mondays-register-by-march-15/
CATEGORIES:Sexqeltqin Health & Wellness
END:VEVENT
BEGIN:VEVENT
DTSTART;VALUE=DATE:20230316
DTEND;VALUE=DATE:20230317
DTSTAMP:20260425T082716
CREATED:20230216T164509Z
LAST-MODIFIED:20230216T165031Z
UID:10003184-1678924800-1679011199@adamslakeband.org
SUMMARY:Family Health Walk
DESCRIPTION:Family Health Walk 2023.jpg
URL:https://adamslakeband.org/event/family-health-walk-3/
CATEGORIES:Sexqeltqin Health & Wellness
END:VEVENT
BEGIN:VEVENT
DTSTART;VALUE=DATE:20230321
DTEND;VALUE=DATE:20230322
DTSTAMP:20260425T082716
CREATED:20230227T234647Z
LAST-MODIFIED:20230308T222939Z
UID:10003202-1679356800-1679443199@adamslakeband.org
SUMMARY:Wellbriety
DESCRIPTION:  \nUpdated Wellbriety Mar23 location change.png
URL:https://adamslakeband.org/event/wellbriety-4/
CATEGORIES:Sexqeltqin Health & Wellness
END:VEVENT
BEGIN:VEVENT
DTSTART;VALUE=DATE:20230321
DTEND;VALUE=DATE:20230322
DTSTAMP:20260425T082716
CREATED:20230314T225415Z
LAST-MODIFIED:20230328T203915Z
UID:10003216-1679356800-1679443199@adamslakeband.org
SUMMARY:Change of Season Celebration\, Mar 21\,7am to 2:30pm\, Chase\, BC
DESCRIPTION:Spring Celebration Mar 21 Fish Camp Chase BC.pdf
URL:https://adamslakeband.org/event/change-of-season-celebration-mar-217am-to-230pm-chase-bc/
CATEGORIES:Sexqeltqin Health & Wellness
END:VEVENT
END:VCALENDAR