BEGIN:VCALENDAR
VERSION:2.0
PRODID:-//Adams Lake Indian Band - ECPv6.15.16//NONSGML v1.0//EN
CALSCALE:GREGORIAN
METHOD:PUBLISH
X-ORIGINAL-URL:https://adamslakeband.org
X-WR-CALDESC:Events for Adams Lake Indian Band
REFRESH-INTERVAL;VALUE=DURATION:PT1H
X-Robots-Tag:noindex
X-PUBLISHED-TTL:PT1H
BEGIN:VTIMEZONE
TZID:America/Vancouver
BEGIN:DAYLIGHT
TZOFFSETFROM:-0800
TZOFFSETTO:-0700
TZNAME:PDT
DTSTART:20150308T100000
END:DAYLIGHT
BEGIN:STANDARD
TZOFFSETFROM:-0700
TZOFFSETTO:-0800
TZNAME:PST
DTSTART:20151101T090000
END:STANDARD
BEGIN:DAYLIGHT
TZOFFSETFROM:-0800
TZOFFSETTO:-0700
TZNAME:PDT
DTSTART:20160313T100000
END:DAYLIGHT
BEGIN:STANDARD
TZOFFSETFROM:-0700
TZOFFSETTO:-0800
TZNAME:PST
DTSTART:20161106T090000
END:STANDARD
BEGIN:DAYLIGHT
TZOFFSETFROM:-0800
TZOFFSETTO:-0700
TZNAME:PDT
DTSTART:20170312T100000
END:DAYLIGHT
BEGIN:STANDARD
TZOFFSETFROM:-0700
TZOFFSETTO:-0800
TZNAME:PST
DTSTART:20171105T090000
END:STANDARD
BEGIN:DAYLIGHT
TZOFFSETFROM:-0800
TZOFFSETTO:-0700
TZNAME:PDT
DTSTART:20180311T100000
END:DAYLIGHT
BEGIN:STANDARD
TZOFFSETFROM:-0700
TZOFFSETTO:-0800
TZNAME:PST
DTSTART:20181104T090000
END:STANDARD
END:VTIMEZONE
BEGIN:VEVENT
DTSTART;VALUE=DATE:20170504
DTEND;VALUE=DATE:20170505
DTSTAMP:20260425T122606
CREATED:20170310T225503Z
LAST-MODIFIED:20170310T225503Z
UID:10002183-1493856000-1493942399@adamslakeband.org
SUMMARY:IR4 Secwepemc Tourism Open House
DESCRIPTION:STS Tourism Open House
URL:https://adamslakeband.org/event/ir4-secwepemc-tourism-open-house/
LOCATION:ALRCC
END:VEVENT
BEGIN:VEVENT
DTSTART;VALUE=DATE:20170503
DTEND;VALUE=DATE:20170504
DTSTAMP:20260425T122606
CREATED:20170419T184645Z
LAST-MODIFIED:20170419T184645Z
UID:10002322-1493769600-1493855999@adamslakeband.org
SUMMARY:Title & Rights Info Session
DESCRIPTION:Title Rights Notice May 3 2017
URL:https://adamslakeband.org/event/title-rights-info-session-2/
LOCATION:ALRCC
END:VEVENT
BEGIN:VEVENT
DTSTART;VALUE=DATE:20170401
DTEND;VALUE=DATE:20170402
DTSTAMP:20260425T122606
CREATED:20170224T174331Z
LAST-MODIFIED:20170224T174331Z
UID:10002283-1491004800-1491091199@adamslakeband.org
SUMMARY:Regina Arnouse Memorial
DESCRIPTION:Regina Arnouse Memorial Notice
URL:https://adamslakeband.org/event/regina-arnouse-memorial/
LOCATION:ALRCC
END:VEVENT
BEGIN:VEVENT
DTSTART;VALUE=DATE:20170302
DTEND;VALUE=DATE:20170303
DTSTAMP:20260425T122606
CREATED:20170224T174623Z
LAST-MODIFIED:20170224T174623Z
UID:10002284-1488412800-1488499199@adamslakeband.org
SUMMARY:Pensions and benefits workshop
DESCRIPTION:ALIB Pensions and Benefits Workshop March 2 2017
URL:https://adamslakeband.org/event/pensions-benefits-workshop/
LOCATION:ALRCC
END:VEVENT
BEGIN:VEVENT
DTSTART;VALUE=DATE:20170301
DTEND;VALUE=DATE:20170302
DTSTAMP:20260425T122606
CREATED:20170206T184646Z
LAST-MODIFIED:20170206T184646Z
UID:10002281-1488326400-1488412799@adamslakeband.org
SUMMARY:Title & Rights Info Session
DESCRIPTION:Title Rights Notice March 2017
URL:https://adamslakeband.org/event/title-rights-info-session/
LOCATION:ALRCC
CATEGORIES:Title and Rights
END:VEVENT
BEGIN:VEVENT
DTSTART;VALUE=DATE:20170224
DTEND;VALUE=DATE:20170225
DTSTAMP:20260425T122606
CREATED:20170131T225041Z
LAST-MODIFIED:20170131T225041Z
UID:10002274-1487894400-1487980799@adamslakeband.org
SUMMARY:T Kenoras Fundraiser
DESCRIPTION:T Kenoras Fundraise Feb 24 2017
URL:https://adamslakeband.org/event/t-kenoras-fundraiser/
LOCATION:ALRCC
END:VEVENT
BEGIN:VEVENT
DTSTART;VALUE=DATE:20170223
DTEND;VALUE=DATE:20170224
DTSTAMP:20260425T122606
CREATED:20170210T195503Z
LAST-MODIFIED:20170210T195638Z
UID:10002282-1487808000-1487894399@adamslakeband.org
SUMMARY:General Band Meeting Feb 23rd 2017
DESCRIPTION:GBM Feb 23 2017
URL:https://adamslakeband.org/event/general-band-meeting-feb-23rd-2017/
LOCATION:ALRCC
CATEGORIES:Governance
END:VEVENT
BEGIN:VEVENT
DTSTART;VALUE=DATE:20170223
DTEND;VALUE=DATE:20170224
DTSTAMP:20260425T122606
CREATED:20170130T230238Z
LAST-MODIFIED:20170130T230238Z
UID:10002266-1487808000-1487894399@adamslakeband.org
SUMMARY:Intermediate Level Two Secwepemc Language Class
DESCRIPTION:Intermediate Level Two Secwepemc Language Classes
URL:https://adamslakeband.org/event/intermediate-level-two-secwepemc-language-class-4/
LOCATION:ALRCC
CATEGORIES:Education
END:VEVENT
BEGIN:VEVENT
DTSTART;VALUE=DATE:20170216
DTEND;VALUE=DATE:20170217
DTSTAMP:20260425T122606
CREATED:20170130T230211Z
LAST-MODIFIED:20170130T230211Z
UID:10002264-1487203200-1487289599@adamslakeband.org
SUMMARY:Intermediate Level Two Secwepemc Language Class
DESCRIPTION:Intermediate Level Two Secwepemc Language Classes
URL:https://adamslakeband.org/event/intermediate-level-two-secwepemc-language-class-3/
LOCATION:ALRCC
CATEGORIES:Education
END:VEVENT
BEGIN:VEVENT
DTSTART;VALUE=DATE:20170209
DTEND;VALUE=DATE:20170210
DTSTAMP:20260425T122606
CREATED:20170130T230007Z
LAST-MODIFIED:20170130T230007Z
UID:10002260-1486598400-1486684799@adamslakeband.org
SUMMARY:Intermediate Level Two Secwepemc Language Class
DESCRIPTION:Intermediate Level Two Secwepemc Language Classes
URL:https://adamslakeband.org/event/intermediate-level-two-secwepemc-language-class-2/
LOCATION:ALRCC
CATEGORIES:Education
END:VEVENT
BEGIN:VEVENT
DTSTART;VALUE=DATE:20170202
DTEND;VALUE=DATE:20170203
DTSTAMP:20260425T122606
CREATED:20170130T225849Z
LAST-MODIFIED:20170130T225849Z
UID:10002259-1485993600-1486079999@adamslakeband.org
SUMMARY:Intermediate Level Two Secwepemc Language Class
DESCRIPTION:Intermediate Level Two Secwepemc Language Classes
URL:https://adamslakeband.org/event/intermediate-level-two-secwepemc-language-class/
LOCATION:ALRCC
CATEGORIES:Education
END:VEVENT
BEGIN:VEVENT
DTSTART;VALUE=DATE:20170111
DTEND;VALUE=DATE:20170112
DTSTAMP:20260425T122606
CREATED:20161215T173343Z
LAST-MODIFIED:20161215T173405Z
UID:10002228-1484092800-1484179199@adamslakeband.org
SUMMARY:Title and Rights Information Session
DESCRIPTION:Title and Rights Information Session Notice
URL:https://adamslakeband.org/event/title-rights-information-session/
LOCATION:ALRCC
END:VEVENT
BEGIN:VEVENT
DTSTART;VALUE=DATE:20161215
DTEND;VALUE=DATE:20161216
DTSTAMP:20260425T122606
CREATED:20161130T173950Z
LAST-MODIFIED:20161130T173950Z
UID:10002226-1481760000-1481846399@adamslakeband.org
SUMMARY:Election Day Poll
DESCRIPTION:View event details: ALIB By-Election
URL:https://adamslakeband.org/event/election-day-poll/
LOCATION:ALRCC
END:VEVENT
BEGIN:VEVENT
DTSTART;VALUE=DATE:20161211
DTEND;VALUE=DATE:20161212
DTSTAMP:20260425T122607
CREATED:20161130T173711Z
LAST-MODIFIED:20161130T173711Z
UID:10002224-1481414400-1481500799@adamslakeband.org
SUMMARY:Community Christmas Luncheon
DESCRIPTION:View event details: Community Christmas Luncheon Notice
URL:https://adamslakeband.org/event/community-christmas-luncheon/
LOCATION:ALRCC
END:VEVENT
BEGIN:VEVENT
DTSTART;VALUE=DATE:20161201
DTEND;VALUE=DATE:20161202
DTSTAMP:20260425T122607
CREATED:20161130T173026Z
LAST-MODIFIED:20161130T173451Z
UID:10002220-1480550400-1480636799@adamslakeband.org
SUMMARY:Chief Canadidates Forum
DESCRIPTION:View event details: ALIB By-Election
URL:https://adamslakeband.org/event/chief-canadidates-forum/
LOCATION:ALRCC
END:VEVENT
END:VCALENDAR