BEGIN:VCALENDAR
VERSION:2.0
PRODID:-//Adams Lake Indian Band - ECPv6.15.16//NONSGML v1.0//EN
CALSCALE:GREGORIAN
METHOD:PUBLISH
X-ORIGINAL-URL:https://adamslakeband.org
X-WR-CALDESC:Events for Adams Lake Indian Band
REFRESH-INTERVAL;VALUE=DURATION:PT1H
X-Robots-Tag:noindex
X-PUBLISHED-TTL:PT1H
BEGIN:VTIMEZONE
TZID:America/Vancouver
BEGIN:DAYLIGHT
TZOFFSETFROM:-0800
TZOFFSETTO:-0700
TZNAME:PDT
DTSTART:20150308T100000
END:DAYLIGHT
BEGIN:STANDARD
TZOFFSETFROM:-0700
TZOFFSETTO:-0800
TZNAME:PST
DTSTART:20151101T090000
END:STANDARD
BEGIN:DAYLIGHT
TZOFFSETFROM:-0800
TZOFFSETTO:-0700
TZNAME:PDT
DTSTART:20160313T100000
END:DAYLIGHT
BEGIN:STANDARD
TZOFFSETFROM:-0700
TZOFFSETTO:-0800
TZNAME:PST
DTSTART:20161106T090000
END:STANDARD
BEGIN:DAYLIGHT
TZOFFSETFROM:-0800
TZOFFSETTO:-0700
TZNAME:PDT
DTSTART:20170312T100000
END:DAYLIGHT
BEGIN:STANDARD
TZOFFSETFROM:-0700
TZOFFSETTO:-0800
TZNAME:PST
DTSTART:20171105T090000
END:STANDARD
END:VTIMEZONE
BEGIN:VEVENT
DTSTART;VALUE=DATE:20161215
DTEND;VALUE=DATE:20161216
DTSTAMP:20260425T135229
CREATED:20161130T173950Z
LAST-MODIFIED:20161130T173950Z
UID:10002226-1481760000-1481846399@adamslakeband.org
SUMMARY:Election Day Poll
DESCRIPTION:View event details: ALIB By-Election
URL:https://adamslakeband.org/event/election-day-poll/
LOCATION:ALRCC
END:VEVENT
BEGIN:VEVENT
DTSTART;VALUE=DATE:20161211
DTEND;VALUE=DATE:20161212
DTSTAMP:20260425T135229
CREATED:20161130T173711Z
LAST-MODIFIED:20161130T173711Z
UID:10002224-1481414400-1481500799@adamslakeband.org
SUMMARY:Community Christmas Luncheon
DESCRIPTION:View event details: Community Christmas Luncheon Notice
URL:https://adamslakeband.org/event/community-christmas-luncheon/
LOCATION:ALRCC
END:VEVENT
BEGIN:VEVENT
DTSTART;VALUE=DATE:20161201
DTEND;VALUE=DATE:20161202
DTSTAMP:20260425T135229
CREATED:20161130T173026Z
LAST-MODIFIED:20161130T173451Z
UID:10002220-1480550400-1480636799@adamslakeband.org
SUMMARY:Chief Canadidates Forum
DESCRIPTION:View event details: ALIB By-Election
URL:https://adamslakeband.org/event/chief-canadidates-forum/
LOCATION:ALRCC
END:VEVENT
END:VCALENDAR